Package: MicrobiomeProfiler Version: 1.16.0 Command: /home/biocbuild/bbs-3.22-bioc/R/bin/R CMD INSTALL MicrobiomeProfiler StartedAt: 2025-11-11 15:52:16 -0500 (Tue, 11 Nov 2025) EndedAt: 2025-11-11 15:52:40 -0500 (Tue, 11 Nov 2025) EllapsedTime: 24.1 seconds RetCode: 0 Status: OK