Package: MicrobiomeProfiler Version: 1.16.0 Command: /home/biocbuild/bbs-3.22-bioc/R/bin/R CMD build --keep-empty-dirs --no-resave-data --md5 MicrobiomeProfiler StartedAt: 2025-11-11 18:46:56 -0500 (Tue, 11 Nov 2025) EndedAt: 2025-11-11 18:47:22 -0500 (Tue, 11 Nov 2025) EllapsedTime: 26.0 seconds RetCode: 0 Status: OK PackageFile: MicrobiomeProfiler_1.16.0.tar.gz PackageFileSize: 1.053 MiB