Package: MicrobiomeProfiler Version: 1.16.0 Command: /Library/Frameworks/R.framework/Resources/bin/R CMD INSTALL MicrobiomeProfiler StartedAt: 2025-11-20 17:16:15 -0500 (Thu, 20 Nov 2025) EndedAt: 2025-11-20 17:17:06 -0500 (Thu, 20 Nov 2025) EllapsedTime: 51.4 seconds RetCode: 0 Status: OK