Package: MicrobiomeProfiler Version: 1.16.0 Command: /Library/Frameworks/R.framework/Resources/bin/R CMD build --keep-empty-dirs --no-resave-data MicrobiomeProfiler StartedAt: 2025-11-20 21:36:47 -0500 (Thu, 20 Nov 2025) EndedAt: 2025-11-20 21:37:56 -0500 (Thu, 20 Nov 2025) EllapsedTime: 68.4 seconds RetCode: 0 Status: OK PackageFile: MicrobiomeProfiler_1.16.0.tar.gz PackageFileSize: 1.051 MiB