Package: MicrobiomeProfiler Version: 1.14.0 Command: rm -rf MicrobiomeProfiler.buildbin-libdir && mkdir MicrobiomeProfiler.buildbin-libdir && /Users/biocbuild/BBS/utils/build-universal.sh MicrobiomeProfiler_1.14.0.tar.gz /Library/Frameworks/R.framework/Resources/bin/R MicrobiomeProfiler.buildbin-libdir StartedAt: 2025-04-21 22:42:07 -0400 (Mon, 21 Apr 2025) EndedAt: 2025-04-21 22:42:18 -0400 (Mon, 21 Apr 2025) EllapsedTime: 11.2 seconds RetCode: 0 Status: OK PackageFile: MicrobiomeProfiler_1.14.0.tgz PackageFileSize: 949.2 KiB