Package: MicrobiomeProfiler Version: 1.14.0 Command: /Library/Frameworks/R.framework/Resources/bin/R CMD INSTALL MicrobiomeProfiler StartedAt: 2025-10-13 17:51:29 -0400 (Mon, 13 Oct 2025) EndedAt: 2025-10-13 17:51:57 -0400 (Mon, 13 Oct 2025) EllapsedTime: 28.1 seconds RetCode: 0 Status: OK