Package: MicrobiomeProfiler Version: 1.14.0 Command: /Library/Frameworks/R.framework/Resources/bin/R CMD build --keep-empty-dirs --no-resave-data MicrobiomeProfiler StartedAt: 2025-10-14 04:20:45 -0400 (Tue, 14 Oct 2025) EndedAt: 2025-10-14 04:21:19 -0400 (Tue, 14 Oct 2025) EllapsedTime: 34.0 seconds RetCode: 0 Status: OK PackageFile: MicrobiomeProfiler_1.14.0.tar.gz PackageFileSize: 1.051 MiB