Package: MicrobiomeProfiler Version: 1.14.0 Command: rm -rf MicrobiomeProfiler.buildbin-libdir && mkdir MicrobiomeProfiler.buildbin-libdir && /Users/biocbuild/BBS/utils/build-universal.sh MicrobiomeProfiler_1.14.0.tar.gz /Library/Frameworks/R.framework/Resources/bin/R MicrobiomeProfiler.buildbin-libdir StartedAt: 2025-10-15 19:19:34 -0400 (Wed, 15 Oct 2025) EndedAt: 2025-10-15 19:20:04 -0400 (Wed, 15 Oct 2025) EllapsedTime: 30.6 seconds RetCode: 0 Status: OK PackageFile: MicrobiomeProfiler_1.14.0.tgz PackageFileSize: 948.3 KiB