Package: MiPP Version: 1.82.0 Command: /Library/Frameworks/R.framework/Resources/bin/R CMD INSTALL MiPP StartedAt: 2025-11-03 15:07:10 -0500 (Mon, 03 Nov 2025) EndedAt: 2025-11-03 15:07:12 -0500 (Mon, 03 Nov 2025) EllapsedTime: 2.2 seconds RetCode: 0 Status: OK