Package: MiPP Version: 1.82.0 Command: rm -rf MiPP.buildbin-libdir && mkdir MiPP.buildbin-libdir && /Users/biocbuild/BBS/utils/build-universal.sh MiPP_1.82.0.tar.gz /Library/Frameworks/R.framework/Resources/bin/R MiPP.buildbin-libdir StartedAt: 2025-11-02 23:11:58 -0500 (Sun, 02 Nov 2025) EndedAt: 2025-11-02 23:12:00 -0500 (Sun, 02 Nov 2025) EllapsedTime: 2.0 seconds RetCode: 0 Status: OK PackageFile: MiPP_1.82.0.tgz PackageFileSize: 469.3 KiB