Package: MiChip Version: 1.64.0 Command: /home/biocbuild/bbs-3.22-bioc/R/bin/R CMD INSTALL MiChip StartedAt: 2025-11-11 15:16:56 -0500 (Tue, 11 Nov 2025) EndedAt: 2025-11-11 15:16:59 -0500 (Tue, 11 Nov 2025) EllapsedTime: 3.2 seconds RetCode: 0 Status: OK