Package: MiChip Version: 1.64.0 Command: /home/biocbuild/bbs-3.22-bioc/R/bin/R CMD build --keep-empty-dirs --no-resave-data --md5 MiChip StartedAt: 2025-11-11 18:46:14 -0500 (Tue, 11 Nov 2025) EndedAt: 2025-11-11 18:46:23 -0500 (Tue, 11 Nov 2025) EllapsedTime: 9.0 seconds RetCode: 0 Status: OK PackageFile: MiChip_1.64.0.tar.gz PackageFileSize: 652.7 KiB