Package: MiChip Version: 1.62.0 Command: /home/biocbuild/R/R/bin/R CMD INSTALL MiChip StartedAt: 2025-10-13 20:24:21 -0000 (Mon, 13 Oct 2025) EndedAt: 2025-10-13 20:24:26 -0000 (Mon, 13 Oct 2025) EllapsedTime: 4.4 seconds RetCode: 0 Status: OK