Package: MiChip Version: 1.62.0 Command: /home/biocbuild/R/R/bin/R CMD build --keep-empty-dirs --no-resave-data MiChip StartedAt: 2025-10-14 02:27:48 -0000 (Tue, 14 Oct 2025) EndedAt: 2025-10-14 02:27:59 -0000 (Tue, 14 Oct 2025) EllapsedTime: 11.0 seconds RetCode: 0 Status: OK PackageFile: MiChip_1.62.0.tar.gz PackageFileSize: 643 KiB