Package: MiChip Version: 1.64.0 Command: /Library/Frameworks/R.framework/Resources/bin/R CMD INSTALL MiChip StartedAt: 2025-11-03 15:06:53 -0500 (Mon, 03 Nov 2025) EndedAt: 2025-11-03 15:06:55 -0500 (Mon, 03 Nov 2025) EllapsedTime: 1.3 seconds RetCode: 0 Status: OK