Package: MiChip Version: 1.64.0 Command: /Library/Frameworks/R.framework/Resources/bin/R CMD build --keep-empty-dirs --no-resave-data MiChip StartedAt: 2025-11-03 17:00:57 -0500 (Mon, 03 Nov 2025) EndedAt: 2025-11-03 17:01:06 -0500 (Mon, 03 Nov 2025) EllapsedTime: 8.1 seconds RetCode: 0 Status: OK PackageFile: MiChip_1.64.0.tar.gz PackageFileSize: 670.4 KiB