Package: MiChip Version: 1.64.0 Command: rm -rf MiChip.buildbin-libdir && mkdir MiChip.buildbin-libdir && /Users/biocbuild/BBS/utils/build-universal.sh MiChip_1.64.0.tar.gz /Library/Frameworks/R.framework/Resources/bin/R MiChip.buildbin-libdir StartedAt: 2025-10-31 23:13:52 -0400 (Fri, 31 Oct 2025) EndedAt: 2025-10-31 23:13:54 -0400 (Fri, 31 Oct 2025) EllapsedTime: 2.0 seconds RetCode: 0 Status: OK PackageFile: MiChip_1.64.0.tgz PackageFileSize: 720.3 KiB