Package: Mfuzz Version: 2.70.0 Command: /home/biocbuild/bbs-3.22-bioc/R/bin/R CMD build --keep-empty-dirs --no-resave-data --md5 Mfuzz StartedAt: 2025-11-11 18:45:40 -0500 (Tue, 11 Nov 2025) EndedAt: 2025-11-11 18:45:50 -0500 (Tue, 11 Nov 2025) EllapsedTime: 10.0 seconds RetCode: 0 Status: OK PackageFile: Mfuzz_2.70.0.tar.gz PackageFileSize: 821.5 KiB