Package: Mfuzz Version: 2.70.0 Command: /Library/Frameworks/R.framework/Resources/bin/R CMD INSTALL Mfuzz StartedAt: 2025-11-10 15:07:52 -0500 (Mon, 10 Nov 2025) EndedAt: 2025-11-10 15:07:54 -0500 (Mon, 10 Nov 2025) EllapsedTime: 2.8 seconds RetCode: 0 Status: OK