Package: Mfuzz Version: 2.70.0 Command: /Library/Frameworks/R.framework/Resources/bin/R CMD build --keep-empty-dirs --no-resave-data Mfuzz StartedAt: 2025-11-10 17:00:31 -0500 (Mon, 10 Nov 2025) EndedAt: 2025-11-10 17:00:43 -0500 (Mon, 10 Nov 2025) EllapsedTime: 12.1 seconds RetCode: 0 Status: OK PackageFile: Mfuzz_2.70.0.tar.gz PackageFileSize: 819.7 KiB