Package: Mfuzz Version: 2.70.0 Command: rm -rf Mfuzz.buildbin-libdir && mkdir Mfuzz.buildbin-libdir && /Users/biocbuild/BBS/utils/build-universal.sh Mfuzz_2.70.0.tar.gz /Library/Frameworks/R.framework/Resources/bin/R Mfuzz.buildbin-libdir StartedAt: 2025-11-10 23:26:46 -0500 (Mon, 10 Nov 2025) EndedAt: 2025-11-10 23:26:51 -0500 (Mon, 10 Nov 2025) EllapsedTime: 4.1 seconds RetCode: 0 Status: OK PackageFile: Mfuzz_2.70.0.tgz PackageFileSize: 854.4 KiB