Package: MethylSeekR Version: 1.50.0 Command: /home/biocbuild/bbs-3.22-bioc/R/bin/R CMD INSTALL MethylSeekR StartedAt: 2025-11-11 15:32:31 -0500 (Tue, 11 Nov 2025) EndedAt: 2025-11-11 15:33:02 -0500 (Tue, 11 Nov 2025) EllapsedTime: 31.1 seconds RetCode: 0 Status: OK