Package: MethylSeekR Version: 1.50.0 Command: /home/biocbuild/bbs-3.22-bioc/R/bin/R CMD build --keep-empty-dirs --no-resave-data --md5 MethylSeekR StartedAt: 2025-11-11 18:44:09 -0500 (Tue, 11 Nov 2025) EndedAt: 2025-11-11 18:45:58 -0500 (Tue, 11 Nov 2025) EllapsedTime: 109.1 seconds RetCode: 0 Status: OK PackageFile: MethylSeekR_1.50.0.tar.gz PackageFileSize: 1.587 MiB