Package: MethylSeekR Version: 1.50.0 Command: /Library/Frameworks/R.framework/Resources/bin/R CMD INSTALL MethylSeekR StartedAt: 2025-11-10 15:16:58 -0500 (Mon, 10 Nov 2025) EndedAt: 2025-11-10 15:17:11 -0500 (Mon, 10 Nov 2025) EllapsedTime: 13.0 seconds RetCode: 0 Status: OK