Package: MethylSeekR Version: 1.50.0 Command: /Library/Frameworks/R.framework/Resources/bin/R CMD build --keep-empty-dirs --no-resave-data MethylSeekR StartedAt: 2025-11-10 16:59:40 -0500 (Mon, 10 Nov 2025) EndedAt: 2025-11-10 17:00:47 -0500 (Mon, 10 Nov 2025) EllapsedTime: 66.8 seconds RetCode: 0 Status: OK PackageFile: MethylSeekR_1.50.0.tar.gz PackageFileSize: 1.586 MiB