Package: MethylMix Version: 2.40.0 Command: /home/biocbuild/bbs-3.22-bioc/R/bin/R CMD INSTALL MethylMix StartedAt: 2025-11-11 15:11:54 -0500 (Tue, 11 Nov 2025) EndedAt: 2025-11-11 15:12:05 -0500 (Tue, 11 Nov 2025) EllapsedTime: 11.2 seconds RetCode: 0 Status: OK