Package: MethylMix Version: 2.40.0 Command: /Library/Frameworks/R.framework/Resources/bin/R CMD INSTALL MethylMix StartedAt: 2025-11-10 15:04:26 -0500 (Mon, 10 Nov 2025) EndedAt: 2025-11-10 15:04:31 -0500 (Mon, 10 Nov 2025) EllapsedTime: 4.7 seconds RetCode: 0 Status: OK