Package: MethylMix Version: 2.40.0 Command: /Library/Frameworks/R.framework/Resources/bin/R CMD build --keep-empty-dirs --no-resave-data MethylMix StartedAt: 2025-11-10 16:59:27 -0500 (Mon, 10 Nov 2025) EndedAt: 2025-11-10 16:59:40 -0500 (Mon, 10 Nov 2025) EllapsedTime: 13.2 seconds RetCode: 0 Status: OK PackageFile: MethylMix_2.40.0.tar.gz PackageFileSize: 2.576 MiB