Package: MethTargetedNGS Version: 1.42.0 Command: /home/biocbuild/R/R/bin/R CMD INSTALL MethTargetedNGS StartedAt: 2025-11-13 22:00:13 -0000 (Thu, 13 Nov 2025) EndedAt: 2025-11-13 22:00:28 -0000 (Thu, 13 Nov 2025) EllapsedTime: 15.6 seconds RetCode: 0 Status: OK