Package: MethTargetedNGS Version: 1.42.0 Command: /home/biocbuild/R/R/bin/R CMD build --keep-empty-dirs --no-resave-data MethTargetedNGS StartedAt: 2025-11-14 03:09:42 -0000 (Fri, 14 Nov 2025) EndedAt: 2025-11-14 03:10:09 -0000 (Fri, 14 Nov 2025) EllapsedTime: 27.0 seconds RetCode: 0 Status: OK PackageFile: MethTargetedNGS_1.42.0.tar.gz PackageFileSize: 271.6 KiB