Package: MethTargetedNGS Version: 1.42.0 Command: /home/biocbuild/bbs-3.22-bioc/R/bin/R CMD INSTALL MethTargetedNGS StartedAt: 2025-11-11 15:55:30 -0500 (Tue, 11 Nov 2025) EndedAt: 2025-11-11 15:55:42 -0500 (Tue, 11 Nov 2025) EllapsedTime: 11.5 seconds RetCode: 0 Status: OK