Package: MethTargetedNGS Version: 1.42.0 Command: /home/biocbuild/bbs-3.22-bioc/R/bin/R CMD check --install=check:MethTargetedNGS.install-out.txt --library=/home/biocbuild/bbs-3.22-bioc/R/site-library --timings MethTargetedNGS_1.42.0.tar.gz StartedAt: 2025-11-12 01:20:15 -0500 (Wed, 12 Nov 2025) EndedAt: 2025-11-12 01:21:55 -0500 (Wed, 12 Nov 2025) EllapsedTime: 100.1 seconds RetCode: 0 Status: OK CheckDir: MethTargetedNGS.Rcheck Warnings: 0