Package: MethTargetedNGS Version: 1.40.0 Command: /Library/Frameworks/R.framework/Resources/bin/R CMD INSTALL MethTargetedNGS StartedAt: 2025-10-09 16:32:40 -0400 (Thu, 09 Oct 2025) EndedAt: 2025-10-09 16:33:06 -0400 (Thu, 09 Oct 2025) EllapsedTime: 26.1 seconds RetCode: 0 Status: OK