Package: MethReg Version: 1.20.0 Command: /home/biocbuild/bbs-3.22-bioc/R/bin/R CMD check --install=check:MethReg.install-out.txt --library=/home/biocbuild/bbs-3.22-bioc/R/site-library --timings MethReg_1.20.0.tar.gz StartedAt: 2025-11-15 01:32:50 -0500 (Sat, 15 Nov 2025) EndedAt: 2025-11-15 01:49:27 -0500 (Sat, 15 Nov 2025) EllapsedTime: 997.8 seconds RetCode: 0 Status: OK CheckDir: MethReg.Rcheck Warnings: 0