Package: MethReg Version: 1.18.0 Command: /home/biocbuild/bbs-3.21-bioc/R/bin/R CMD INSTALL MethReg StartedAt: 2025-10-15 15:52:16 -0400 (Wed, 15 Oct 2025) EndedAt: 2025-10-15 15:53:05 -0400 (Wed, 15 Oct 2025) EllapsedTime: 49.9 seconds RetCode: 0 Status: OK