Package: MethReg Version: 1.18.0 Command: /home/biocbuild/bbs-3.21-bioc/R/bin/R CMD build --keep-empty-dirs --no-resave-data MethReg StartedAt: 2025-10-15 18:25:19 -0400 (Wed, 15 Oct 2025) EndedAt: 2025-10-15 18:34:34 -0400 (Wed, 15 Oct 2025) EllapsedTime: 554.5 seconds RetCode: 0 Status: OK PackageFile: MethReg_1.18.0.tar.gz PackageFileSize: 5.201 MiB