Package: MethReg Version: 1.20.0 Command: /Library/Frameworks/R.framework/Resources/bin/R CMD build --keep-empty-dirs --no-resave-data MethReg StartedAt: 2025-10-31 17:44:53 -0400 (Fri, 31 Oct 2025) EndedAt: 2025-10-31 17:56:04 -0400 (Fri, 31 Oct 2025) EllapsedTime: 670.2 seconds RetCode: 0 Status: OK PackageFile: MethReg_1.20.0.tar.gz PackageFileSize: 5.387 MiB