Package: MethReg Version: 1.20.0 Command: rm -rf MethReg.buildbin-libdir && mkdir MethReg.buildbin-libdir && /Users/biocbuild/BBS/utils/build-universal.sh MethReg_1.20.0.tar.gz /Library/Frameworks/R.framework/Resources/bin/R MethReg.buildbin-libdir StartedAt: 2025-11-01 01:42:49 -0400 (Sat, 01 Nov 2025) EndedAt: 2025-11-01 01:44:03 -0400 (Sat, 01 Nov 2025) EllapsedTime: 73.9 seconds RetCode: 0 Status: OK PackageFile: MethReg_1.20.0.tgz PackageFileSize: 4.516 MiB