Package: MethReg Version: 1.18.0 Command: /home/biocbuild/R/R/bin/R CMD INSTALL MethReg StartedAt: 2025-10-09 21:11:17 -0000 (Thu, 09 Oct 2025) EndedAt: 2025-10-09 21:12:26 -0000 (Thu, 09 Oct 2025) EllapsedTime: 68.8 seconds RetCode: 0 Status: OK