Package: MethReg Version: 1.18.0 Command: /home/biocbuild/R/R/bin/R CMD build --keep-empty-dirs --no-resave-data MethReg StartedAt: 2025-10-07 02:22:28 -0000 (Tue, 07 Oct 2025) EndedAt: 2025-10-07 02:37:27 -0000 (Tue, 07 Oct 2025) EllapsedTime: 899.3 seconds RetCode: 0 Status: OK PackageFile: MethReg_1.18.0.tar.gz PackageFileSize: 5.191 MiB