Package: MethReg Version: 1.18.0 Command: /Library/Frameworks/R.framework/Resources/bin/R CMD build --keep-empty-dirs --no-resave-data MethReg StartedAt: 2025-04-21 16:52:55 -0400 (Mon, 21 Apr 2025) EndedAt: 2025-04-21 16:57:36 -0400 (Mon, 21 Apr 2025) EllapsedTime: 281.1 seconds RetCode: 0 Status: OK PackageFile: MethReg_1.18.0.tar.gz PackageFileSize: 5.385 MiB