Package: MethReg Version: 1.18.0 Command: rm -rf MethReg.buildbin-libdir && mkdir MethReg.buildbin-libdir && /Users/biocbuild/BBS/utils/build-universal.sh MethReg_1.18.0.tar.gz /Library/Frameworks/R.framework/Resources/bin/R MethReg.buildbin-libdir StartedAt: 2025-04-21 22:41:30 -0400 (Mon, 21 Apr 2025) EndedAt: 2025-04-21 22:41:53 -0400 (Mon, 21 Apr 2025) EllapsedTime: 22.4 seconds RetCode: 0 Status: OK PackageFile: MethReg_1.18.0.tgz PackageFileSize: 4.516 MiB