Package: MethPed Version: 1.36.0 Command: /home/biocbuild/R/R/bin/R CMD INSTALL MethPed StartedAt: 2025-10-13 20:25:18 -0000 (Mon, 13 Oct 2025) EndedAt: 2025-10-13 20:25:27 -0000 (Mon, 13 Oct 2025) EllapsedTime: 9.1 seconds RetCode: 0 Status: OK