Package: MethPed Version: 1.36.0 Command: /home/biocbuild/R/R/bin/R CMD build --keep-empty-dirs --no-resave-data MethPed StartedAt: 2025-10-14 02:17:44 -0000 (Tue, 14 Oct 2025) EndedAt: 2025-10-14 02:19:44 -0000 (Tue, 14 Oct 2025) EllapsedTime: 120.0 seconds RetCode: 0 Status: OK PackageFile: MethPed_1.36.0.tar.gz PackageFileSize: 9.294 MiB