Package: MethPed Version: 1.38.0 Command: /Library/Frameworks/R.framework/Resources/bin/R CMD INSTALL MethPed StartedAt: 2025-11-03 15:07:38 -0500 (Mon, 03 Nov 2025) EndedAt: 2025-11-03 15:07:43 -0500 (Mon, 03 Nov 2025) EllapsedTime: 4.0 seconds RetCode: 0 Status: OK