Package: MethPed Version: 1.38.0 Command: rm -rf MethPed.buildbin-libdir && mkdir MethPed.buildbin-libdir && /Users/biocbuild/BBS/utils/build-universal.sh MethPed_1.38.0.tar.gz /Library/Frameworks/R.framework/Resources/bin/R MethPed.buildbin-libdir StartedAt: 2025-11-02 23:11:05 -0500 (Sun, 02 Nov 2025) EndedAt: 2025-11-02 23:11:09 -0500 (Sun, 02 Nov 2025) EllapsedTime: 4.1 seconds RetCode: 0 Status: OK PackageFile: MethPed_1.38.0.tgz PackageFileSize: 9.315 MiB