Package: MetaboSignal Version: 1.40.0 Command: /home/biocbuild/bbs-3.22-bioc/R/bin/R CMD check --install=check:MetaboSignal.install-out.txt --library=/home/biocbuild/bbs-3.22-bioc/R/site-library --timings MetaboSignal_1.40.0.tar.gz StartedAt: 2025-11-14 01:20:41 -0500 (Fri, 14 Nov 2025) EndedAt: 2025-11-14 01:27:58 -0500 (Fri, 14 Nov 2025) EllapsedTime: 437.4 seconds RetCode: 0 Status: OK CheckDir: MetaboSignal.Rcheck Warnings: 0