Package: MetaboSignal Version: 1.40.0 Command: /home/biocbuild/bbs-3.22-bioc/R/bin/R CMD build --keep-empty-dirs --no-resave-data --md5 MetaboSignal StartedAt: 2025-11-11 18:38:29 -0500 (Tue, 11 Nov 2025) EndedAt: 2025-11-11 18:40:19 -0500 (Tue, 11 Nov 2025) EllapsedTime: 110.1 seconds RetCode: 0 Status: OK PackageFile: MetaboSignal_1.40.0.tar.gz PackageFileSize: 2.091 MiB