Package: MetaboSignal Version: 1.38.0 Command: /home/biocbuild/bbs-3.21-bioc/R/bin/R CMD build --keep-empty-dirs --no-resave-data MetaboSignal StartedAt: 2025-10-15 18:23:30 -0400 (Wed, 15 Oct 2025) EndedAt: 2025-10-15 18:25:19 -0400 (Wed, 15 Oct 2025) EllapsedTime: 109.1 seconds RetCode: 0 Status: OK PackageFile: MetaboSignal_1.38.0.tar.gz PackageFileSize: 2.089 MiB