Package: MetaboSignal Version: 1.38.0 Command: /home/biocbuild/R/R/bin/R CMD INSTALL MetaboSignal StartedAt: 2025-10-02 20:57:15 -0000 (Thu, 02 Oct 2025) EndedAt: 2025-10-02 20:58:27 -0000 (Thu, 02 Oct 2025) EllapsedTime: 72.3 seconds RetCode: 0 Status: OK